BEGIN:VCALENDAR
VERSION:2.0
PRODID:-//hacksw/handcal//NONSGML v1.0//EN
CALSCALE:GREGORIAN
BEGIN:VEVENT
UID:69e5bb3668fd1
DTSTART:20180314T203000Z
DTSTAMP:20260420T053550Z
DTEND:20180315T203000Z
LOCATION:London
DESCRIPTION:Nano Tenchnology Event
URL;VALUE=URI:http://nanomaterials.conferenceseries.com/
SUMMARY:23rd International Conference on Nanomaterials and Nanotechno
 ology
END:VEVENT
END:VCALENDAR
