BEGIN:VCALENDAR
VERSION:2.0
PRODID:-//hacksw/handcal//NONSGML v1.0//EN
CALSCALE:GREGORIAN
BEGIN:VEVENT
UID:69e5cf15a2d36
DTSTART:20180318T203000Z
DTSTAMP:20260420T070037Z
DTEND:20180319T203000Z
LOCATION:Dubai
DESCRIPTION:Nano Tenchnology Event
URL;VALUE=URI:https://smart.materialsconferences.com/
SUMMARY:5th World Congress on Smart and Emerging Materials
END:VEVENT
END:VCALENDAR
