BEGIN:VCALENDAR
VERSION:2.0
PRODID:-//hacksw/handcal//NONSGML v1.0//EN
CALSCALE:GREGORIAN
BEGIN:VEVENT
UID:69e5bb37d2a64
DTSTART:20180318T203000Z
DTSTAMP:20260420T053551Z
DTEND:20180320T203000Z
LOCATION:Berlin
DESCRIPTION:Nano Tenchnology Event
URL;VALUE=URI:https://novel-drugdelivery-systems.pharmaceuticalconfer
 rences.com/
SUMMARY:16th International Conference and Exhibition on Pharmaceutics
 s & Novel Drug Delivery Systems
END:VEVENT
END:VCALENDAR
