BEGIN:VCALENDAR
VERSION:2.0
PRODID:-//hacksw/handcal//NONSGML v1.0//EN
CALSCALE:GREGORIAN
BEGIN:VEVENT
UID:69e5cf631e85d
DTSTART:20180321T203000Z
DTSTAMP:20260420T070155Z
DTEND:20180322T193000Z
LOCATION:London
DESCRIPTION:Nano Tenchnology Event
URL;VALUE=URI:https://emergingmaterials.materialsconferences.com/
SUMMARY:16th International Conference on Emerging Materials and Nanot
 technology
END:VEVENT
END:VCALENDAR
