BEGIN:VCALENDAR
VERSION:2.0
PRODID:-//hacksw/handcal//NONSGML v1.0//EN
CALSCALE:GREGORIAN
BEGIN:VEVENT
UID:69e5cf59e60f9
DTSTART:20180408T193000Z
DTSTAMP:20260420T070145Z
DTEND:20180410T193000Z
LOCATION:Amsterdam
DESCRIPTION:Nano Tenchnology Event
URL;VALUE=URI:https://nanotechnology.pharmaceuticalconferences.com/
SUMMARY:14th International Conference and Exhibition on Nanomedicine 
  and Pharmaceutical Nanotechnology
END:VEVENT
END:VCALENDAR
