BEGIN:VCALENDAR
VERSION:2.0
PRODID:-//hacksw/handcal//NONSGML v1.0//EN
CALSCALE:GREGORIAN
BEGIN:VEVENT
UID:69e611d71b113
DTSTART:20180902T193000Z
DTSTAMP:20260420T114527Z
DTEND:20180903T193000Z
LOCATION:Tokyo
DESCRIPTION:Nano Tenchnology Event
URL;VALUE=URI:https://medicalnanotechnology.conferenceseries.com
SUMMARY:16th World Medical Nanotechnology Congress
END:VEVENT
END:VCALENDAR
