BEGIN:VCALENDAR
VERSION:2.0
PRODID:-//hacksw/handcal//NONSGML v1.0//EN
CALSCALE:GREGORIAN
BEGIN:VEVENT
UID:69e5cf63992a1
DTSTART:20180506T193000Z
DTSTAMP:20260420T070155Z
DTEND:20180507T193000Z
LOCATION:Rome
DESCRIPTION:Nano Tenchnology Event
URL;VALUE=URI:https://nano.conferenceseries.com/
SUMMARY:24th World Nano Conference
END:VEVENT
END:VCALENDAR
