BEGIN:VCALENDAR
VERSION:2.0
PRODID:-//hacksw/handcal//NONSGML v1.0//EN
CALSCALE:GREGORIAN
BEGIN:VEVENT
UID:69e9138e38116
DTSTART:20180506T193000Z
DTSTAMP:20260422T182934Z
DTEND:20180508T193000Z
LOCATION:Rome
DESCRIPTION:Nano Tenchnology Event
URL;VALUE=URI:http://nanotech.madridge.com/
SUMMARY:3rd International Nanotechnology Conference & Expo
END:VEVENT
END:VCALENDAR
