BEGIN:VCALENDAR
VERSION:2.0
PRODID:-//hacksw/handcal//NONSGML v1.0//EN
CALSCALE:GREGORIAN
BEGIN:VEVENT
UID:69e5cf805bc8d
DTSTART:20180520T193000Z
DTSTAMP:20260420T070224Z
DTEND:20180522T193000Z
LOCATION:Tokyo
DESCRIPTION:Nano Tenchnology Event
URL;VALUE=URI:https://nanomedicine.pharmaceuticalconferences.com/
SUMMARY:2nd International Conference and Exhibition on Nanomedicine a
 and Drug Delivery
END:VEVENT
END:VCALENDAR
