BEGIN:VCALENDAR
VERSION:2.0
PRODID:-//hacksw/handcal//NONSGML v1.0//EN
CALSCALE:GREGORIAN
BEGIN:VEVENT
UID:69e5cf1630ba9
DTSTART:20180603T193000Z
DTSTAMP:20260420T070038Z
DTEND:20180605T193000Z
LOCATION:Osaka
DESCRIPTION:Nano Tenchnology Event
URL;VALUE=URI:https://biopolymerscongress.conferenceseries.com/
SUMMARY:7th World Congress on Biopolymers and Polymer Chemistry
END:VEVENT
END:VCALENDAR
