BEGIN:VCALENDAR
VERSION:2.0
PRODID:-//hacksw/handcal//NONSGML v1.0//EN
CALSCALE:GREGORIAN
BEGIN:VEVENT
UID:69e5e9bd6cbcf
DTSTART:20180624T193000Z
DTSTAMP:20260420T085421Z
DTEND:20180625T193000Z
LOCATION:Vancouver
DESCRIPTION:Nano Tenchnology Event
URL;VALUE=URI:https://emergingmaterials.conferenceseries.com/
SUMMARY:20th International Conference on Emerging Materials and Nanot
 technology
END:VEVENT
END:VCALENDAR
