BEGIN:VCALENDAR
VERSION:2.0
PRODID:-//hacksw/handcal//NONSGML v1.0//EN
CALSCALE:GREGORIAN
BEGIN:VEVENT
UID:69e611745dd58
DTSTART:20180826T193000Z
DTSTAMP:20260420T114348Z
DTEND:20180828T193000Z
LOCATION:Dubai
DESCRIPTION:Nano Tenchnology Event
URL;VALUE=URI:https://materialscience-nano.conferenceseries.com/
SUMMARY:20th International Conference on Advanced Materials Science &
 & Nano Technology
END:VEVENT
END:VCALENDAR
