BEGIN:VCALENDAR
VERSION:2.0
PRODID:-//hacksw/handcal//NONSGML v1.0//EN
CALSCALE:GREGORIAN
BEGIN:VEVENT
UID:69e5cf5a593f5
DTSTART:20180417T193000Z
DTSTAMP:20260420T070146Z
DTEND:20180418T193000Z
LOCATION:Las Vegas
DESCRIPTION:Nano Tenchnology Event
URL;VALUE=URI:https://nanomedicine.pharmaceuticalconferences.com/usa/
SUMMARY:International Conference and Exhibition on Pharmaceutical Nan
 notechnology and Nanomedicine
END:VEVENT
END:VCALENDAR
