BEGIN:VCALENDAR
VERSION:2.0
PRODID:-//hacksw/handcal//NONSGML v1.0//EN
CALSCALE:GREGORIAN
BEGIN:VEVENT
UID:69e5fd861aa7e
DTSTART:20180722T193000Z
DTSTAMP:20260420T101846Z
DTEND:20180723T193000Z
LOCATION:Sydney
DESCRIPTION:Nano Tenchnology Event
URL;VALUE=URI:https://nanotek.conferenceseries.com
SUMMARY:20th Asia Pacific Nanotechnology Congress
END:VEVENT
END:VCALENDAR
