BEGIN:VCALENDAR
VERSION:2.0
PRODID:-//hacksw/handcal//NONSGML v1.0//EN
CALSCALE:GREGORIAN
BEGIN:VEVENT
UID:69e7bea01c9a5
DTSTART:20180629T193000Z
DTSTAMP:20260421T181456Z
DTEND:20180706T193000Z
LOCATION:Thessaloniki
DESCRIPTION:Nano Tenchnology Event
URL;VALUE=URI:http://www.nanotexnology.com
SUMMARY:International Exhibition and Conference on Nanotechnologies\,
 , Organic Electronics &amp\; Nanomedicine (NANOTEXNOLOGY 2018)
END:VEVENT
END:VCALENDAR
