BEGIN:VCALENDAR
VERSION:2.0
PRODID:-//hacksw/handcal//NONSGML v1.0//EN
CALSCALE:GREGORIAN
BEGIN:VEVENT
UID:69e7be57e49d2
DTSTART:20180702T193000Z
DTSTAMP:20260421T181343Z
DTEND:20180705T193000Z
LOCATION:Thessaloniki
DESCRIPTION:Nano Tenchnology Event
URL;VALUE=URI:http://www.nanotexnology.com/index.php/nn
SUMMARY:15th International Conference on Nanoscience &amp\; Nanotechn
 nologies (NN18)
END:VEVENT
END:VCALENDAR
