BEGIN:VCALENDAR
VERSION:2.0
PRODID:-//hacksw/handcal//NONSGML v1.0//EN
CALSCALE:GREGORIAN
BEGIN:VEVENT
UID:69e7be854f78e
DTSTART:20180701T193000Z
DTSTAMP:20260421T181429Z
DTEND:20180704T193000Z
LOCATION:Thessaloniki
DESCRIPTION:Nano Tenchnology Event
URL;VALUE=URI:http://www.nanotexnology.com/index.php/isfoe
SUMMARY:11th International Symposium on Flexible Organic Electronics 
  (ISFOE18)
END:VEVENT
END:VCALENDAR
