BEGIN:VCALENDAR
VERSION:2.0
PRODID:-//hacksw/handcal//NONSGML v1.0//EN
CALSCALE:GREGORIAN
BEGIN:VEVENT
UID:69e7be859b426
DTSTART:20180629T193000Z
DTSTAMP:20260421T181429Z
DTEND:20180706T193000Z
LOCATION:Thessaloniki
DESCRIPTION:Nano Tenchnology Event
URL;VALUE=URI:http://www.nanotexnology.com/index.php/isson
SUMMARY:12th International Summer Schools on Nanosciences &amp\; Nano
 otechnologies\, Organic Electronics &amp\; Nanomedicine (ISSON18)
END:VEVENT
END:VCALENDAR
