BEGIN:VCALENDAR
VERSION:2.0
PRODID:-//hacksw/handcal//NONSGML v1.0//EN
CALSCALE:GREGORIAN
BEGIN:VEVENT
UID:69e7be679319d
DTSTART:20180701T193000Z
DTSTAMP:20260421T181359Z
DTEND:20180705T193000Z
LOCATION:Thessaloniki
DESCRIPTION:Nano Tenchnology Event
URL;VALUE=URI:http://www.nanotexnology.com/index.php/about-expo-18
SUMMARY:8th International Exhibition on Nanotechnologies & Organic El
 lectronics & Nanomedicine
END:VEVENT
END:VCALENDAR
