BEGIN:VCALENDAR
VERSION:2.0
PRODID:-//hacksw/handcal//NONSGML v1.0//EN
CALSCALE:GREGORIAN
BEGIN:VEVENT
UID:69e7bea039f33
DTSTART:20180702T193000Z
DTSTAMP:20260421T181456Z
DTEND:20180704T193000Z
LOCATION:Thessaloniki
DESCRIPTION:Nano Tenchnology Event
URL;VALUE=URI:http://www.nanotexnology.com/index.php/start-up-area
SUMMARY:NANOTEXNOLOGY 2018 Business Forum
END:VEVENT
END:VCALENDAR
