BEGIN:VCALENDAR
VERSION:2.0
PRODID:-//hacksw/handcal//NONSGML v1.0//EN
CALSCALE:GREGORIAN
BEGIN:VEVENT
UID:69e7be85b1f4b
DTSTART:20180702T193000Z
DTSTAMP:20260421T181429Z
DTEND:20180704T193000Z
LOCATION:Thessaloniki
DESCRIPTION:Nano Tenchnology Event
URL;VALUE=URI:http://www.nanotexnology.com/index.php/matchmaking-b2b-
 -event-forum
SUMMARY:NANOTEXNOLOGY 2018 Matchmaking (B2B) Events
END:VEVENT
END:VCALENDAR
