BEGIN:VCALENDAR
VERSION:2.0
PRODID:-//hacksw/handcal//NONSGML v1.0//EN
CALSCALE:GREGORIAN
BEGIN:VEVENT
UID:69e6747f55418
DTSTART:20181125T203000Z
DTSTAMP:20260420T184623Z
DTEND:20181127T203000Z
LOCATION:Barcelona
DESCRIPTION:Nano Tenchnology Event
URL;VALUE=URI:https://nanotechnology.conferenceseries.com
SUMMARY:28th International Conference and Expo on Nanosciences and Na
 anotechnology
END:VEVENT
END:VCALENDAR
