BEGIN:VCALENDAR
VERSION:2.0
PRODID:-//hacksw/handcal//NONSGML v1.0//EN
CALSCALE:GREGORIAN
BEGIN:VEVENT
UID:69e5ea040ce8c
DTSTART:20180711T193000Z
DTSTAMP:20260420T085532Z
DTEND:20180712T193000Z
LOCATION:Bangkok
DESCRIPTION:Nano Tenchnology Event
URL;VALUE=URI:https://nanomaterials.materialsconferences.com/events-l
 list/functional-nanomaterials
SUMMARY:24th World Congress on Nanomaterials and Nanotechnology
END:VEVENT
END:VCALENDAR
