BEGIN:VCALENDAR
VERSION:2.0
PRODID:-//hacksw/handcal//NONSGML v1.0//EN
CALSCALE:GREGORIAN
BEGIN:VEVENT
UID:69e5fe02335b3
DTSTART:20180815T193000Z
DTSTAMP:20260420T102050Z
DTEND:20180817T193000Z
LOCATION:Dublin
DESCRIPTION:Nano Tenchnology Event
URL;VALUE=URI:https://nanocongress.conferenceseries.com
SUMMARY:25th Nano Congress for Future Advancements
END:VEVENT
END:VCALENDAR
