BEGIN:VCALENDAR
VERSION:2.0
PRODID:-//hacksw/handcal//NONSGML v1.0//EN
CALSCALE:GREGORIAN
BEGIN:VEVENT
UID:69e639c8b480f
DTSTART:20181004T203000Z
DTSTAMP:20260420T143552Z
DTEND:20181005T203000Z
LOCATION:California / Los Angeles
DESCRIPTION:Nano Tenchnology Event
URL;VALUE=URI:https://nanotechnologyexpo.conferenceseries.com
SUMMARY:20th World Summit on Nanotechnology and Expo
END:VEVENT
END:VCALENDAR
