BEGIN:VCALENDAR
VERSION:2.0
PRODID:-//hacksw/handcal//NONSGML v1.0//EN
CALSCALE:GREGORIAN
BEGIN:VEVENT
UID:69e64a839b59b
DTSTART:20180331T193000Z
DTSTAMP:20260420T154715Z
DTEND:20180402T193000Z
LOCATION:Shanghai
DESCRIPTION:Nano Tenchnology Event
URL;VALUE=URI:http://www.chinananofair.com
SUMMARY:China (Shanghai) International Nano Fair (Nano China 2018)
END:VEVENT
END:VCALENDAR
