BEGIN:VCALENDAR
VERSION:2.0
PRODID:-//hacksw/handcal//NONSGML v1.0//EN
CALSCALE:GREGORIAN
BEGIN:VEVENT
UID:69e64b0f6eccb
DTSTART:20180331T193000Z
DTSTAMP:20260420T154935Z
DTEND:20180402T193000Z
LOCATION:Shanghai
DESCRIPTION:Nano Tenchnology Event
URL;VALUE=URI:http://www.amfair.net/
SUMMARY:10th Shanghai International Advanced Materials Expo (AM China
 a 2018)
END:VEVENT
END:VCALENDAR
