BEGIN:VCALENDAR
VERSION:2.0
PRODID:-//hacksw/handcal//NONSGML v1.0//EN
CALSCALE:GREGORIAN
BEGIN:VEVENT
UID:69e611d5a7c3c
DTSTART:20180909T193000Z
DTSTAMP:20260420T114525Z
DTEND:20180910T193000Z
LOCATION:Stockholm
DESCRIPTION:Nano Tenchnology Event
URL;VALUE=URI:https://nanotechnology.annualcongress.com
SUMMARY:30th Annual Congress on Nanotechnology &amp\; Nanomaterials (
 (Nanotech 2018)
END:VEVENT
END:VCALENDAR
