BEGIN:VCALENDAR
VERSION:2.0
PRODID:-//hacksw/handcal//NONSGML v1.0//EN
CALSCALE:GREGORIAN
BEGIN:VEVENT
UID:69e5cf5bd3dbc
DTSTART:20180417T193000Z
DTSTAMP:20260420T070147Z
DTEND:20180418T193000Z
LOCATION:Las Vegas
DESCRIPTION:Nano Tenchnology Event
URL;VALUE=URI:https://nanotech.conferenceseries.com/
SUMMARY:23rd International Conference on  Nanomaterials science & Nan
 noengineering
END:VEVENT
END:VCALENDAR
