BEGIN:VCALENDAR
VERSION:2.0
PRODID:-//hacksw/handcal//NONSGML v1.0//EN
CALSCALE:GREGORIAN
BEGIN:VEVENT
UID:69e5cf651f8c7
DTSTART:20180605T193000Z
DTSTAMP:20260420T070157Z
DTEND:20180606T193000Z
LOCATION:Baltimore\, Maryland
DESCRIPTION:Nano Tenchnology Event
URL;VALUE=URI:https://nanoworld.conferenceseries.com
SUMMARY:Nano World: Current and Future Perspectives in Nanotechnology
 y (Nano World 2018)
END:VEVENT
END:VCALENDAR
