BEGIN:VCALENDAR
VERSION:2.0
PRODID:-//hacksw/handcal//NONSGML v1.0//EN
CALSCALE:GREGORIAN
BEGIN:VEVENT
UID:69e5fdf7cd8a0
DTSTART:20180809T193000Z
DTSTAMP:20260420T102039Z
DTEND:20180810T193000Z
LOCATION:Osaka
DESCRIPTION:Nano Tenchnology Event
URL;VALUE=URI:https://nanoscience.conferenceseries.com/
SUMMARY:2nd World Congress on  Nano Science and Nano Technology
END:VEVENT
END:VCALENDAR
