BEGIN:VCALENDAR
VERSION:2.0
PRODID:-//hacksw/handcal//NONSGML v1.0//EN
CALSCALE:GREGORIAN
BEGIN:VEVENT
UID:69e6246e819bd
DTSTART:20180916T193000Z
DTSTAMP:20260420T130446Z
DTEND:20180918T193000Z
LOCATION:Abu Dhabi
DESCRIPTION:Nano Tenchnology Event
URL;VALUE=URI:https://nanomedicine.nanotechconferences.org/
SUMMARY:World Congress on Nanomedicine and Nanotechnology in Health C
 Care (NANOMEDICINE MEET 2018)
END:VEVENT
END:VCALENDAR
