BEGIN:VCALENDAR
VERSION:2.0
PRODID:-//hacksw/handcal//NONSGML v1.0//EN
CALSCALE:GREGORIAN
BEGIN:VEVENT
UID:69e63979ca331
DTSTART:20181003T203000Z
DTSTAMP:20260420T143433Z
DTEND:20181004T203000Z
LOCATION:Moscow
DESCRIPTION:Nano Tenchnology Event
URL;VALUE=URI:https://advancednano.nanotechconferences.org/
SUMMARY:26th International Conference on Advanced Nanotechnology
END:VEVENT
END:VCALENDAR
