BEGIN:VCALENDAR
VERSION:2.0
PRODID:-//hacksw/handcal//NONSGML v1.0//EN
CALSCALE:GREGORIAN
BEGIN:VEVENT
UID:69e639a80ca21
DTSTART:20181010T203000Z
DTSTAMP:20260420T143520Z
DTEND:20181012T203000Z
LOCATION:Dubai
DESCRIPTION:Nano Tenchnology Event
URL;VALUE=URI:https://nanotechnologycongress.conferenceseries.com/
SUMMARY:21st World Nanotechnology Congress
END:VEVENT
END:VCALENDAR
