BEGIN:VCALENDAR
VERSION:2.0
PRODID:-//hacksw/handcal//NONSGML v1.0//EN
CALSCALE:GREGORIAN
BEGIN:VEVENT
UID:69e64e4ead5ae
DTSTART:20181017T203000Z
DTSTAMP:20260420T160326Z
DTEND:20181018T203000Z
LOCATION:Abudhabi
DESCRIPTION:Nano Tenchnology Event
URL;VALUE=URI:https://nanomaterials.nanotechconferences.org
SUMMARY:26th International Conference on  Nanomedicine and Nanomateri
 ials
END:VEVENT
END:VCALENDAR
