BEGIN:VCALENDAR
VERSION:2.0
PRODID:-//hacksw/handcal//NONSGML v1.0//EN
CALSCALE:GREGORIAN
BEGIN:VEVENT
UID:69e674ee71923
DTSTART:20181125T203000Z
DTSTAMP:20260420T184814Z
DTEND:20181127T203000Z
LOCATION:Bali
DESCRIPTION:Nano Tenchnology Event
URL;VALUE=URI:https://nanoscience.nanotechconferences.org/
SUMMARY:Annual Conference on Nanoscience\, Nanotechnology & Advanced 
  Materials conference
END:VEVENT
END:VCALENDAR
