BEGIN:VCALENDAR
VERSION:2.0
PRODID:-//hacksw/handcal//NONSGML v1.0//EN
CALSCALE:GREGORIAN
BEGIN:VEVENT
UID:69e67496463ca
DTSTART:20181125T203000Z
DTSTAMP:20260420T184646Z
DTEND:20181127T203000Z
LOCATION:Barcelona
DESCRIPTION:Nano Tenchnology Event
URL;VALUE=URI:https://graphene.conferenceseries.com/europe/
SUMMARY:3rd World Congress and Expo on  Graphene &amp\; 2D Materials 
  (GRAPHENE WORLD 2018)
END:VEVENT
END:VCALENDAR
