BEGIN:VCALENDAR
VERSION:2.0
PRODID:-//hacksw/handcal//NONSGML v1.0//EN
CALSCALE:GREGORIAN
BEGIN:VEVENT
UID:69e674969d3d5
DTSTART:20181202T203000Z
DTSTAMP:20260420T184646Z
DTEND:20181203T203000Z
LOCATION:Sao Paulo
DESCRIPTION:Nano Tenchnology Event
URL;VALUE=URI:https://world.biotechnologycongress.com/
SUMMARY:3rd World Biotechnology Congress (WORLD BIOTECHNOLOGY 2018)
END:VEVENT
END:VCALENDAR
