BEGIN:VCALENDAR
VERSION:2.0
PRODID:-//hacksw/handcal//NONSGML v1.0//EN
CALSCALE:GREGORIAN
BEGIN:VEVENT
UID:69e632c44ba5a
DTSTART:20181023T203000Z
DTSTAMP:20260420T140556Z
DTEND:20181025T203000Z
LOCATION:Suzhou
DESCRIPTION:Nano Tenchnology Event
URL;VALUE=URI:http://www.chinanosz.com/
SUMMARY:Chinano 2018 Conference & Expo
END:VEVENT
END:VCALENDAR
