BEGIN:VCALENDAR
VERSION:2.0
PRODID:-//hacksw/handcal//NONSGML v1.0//EN
CALSCALE:GREGORIAN
BEGIN:VEVENT
UID:69e5bb183a6cc
DTSTART:20180304T203000Z
DTSTAMP:20260420T053520Z
DTEND:20180305T203000Z
LOCATION:Berlin
DESCRIPTION:Nano Tenchnology Event
URL;VALUE=URI:https://biomaterials.conferenceseries.com/
SUMMARY:3rd Annual Conference and Expo on  Biomaterials
END:VEVENT
END:VCALENDAR
