BEGIN:VCALENDAR
VERSION:2.0
PRODID:-//hacksw/handcal//NONSGML v1.0//EN
CALSCALE:GREGORIAN
BEGIN:VEVENT
UID:69e5bb184ba86
DTSTART:20180218T203000Z
DTSTAMP:20260420T053520Z
DTEND:20180219T203000Z
LOCATION:Paris
DESCRIPTION:Nano Tenchnology Event
URL;VALUE=URI:https://materialsresearch.conferenceseries.com
SUMMARY:15th Annual Congress on  Materials Research and Technology
END:VEVENT
END:VCALENDAR
