BEGIN:VCALENDAR
VERSION:2.0
PRODID:-//hacksw/handcal//NONSGML v1.0//EN
CALSCALE:GREGORIAN
BEGIN:VEVENT
UID:69e5cf80d48d5
DTSTART:20180415T193000Z
DTSTAMP:20260420T070224Z
DTEND:20180416T193000Z
LOCATION:Las Vegas
DESCRIPTION:Nano Tenchnology Event
URL;VALUE=URI:https://diamond-carbon.conferenceseries.com
SUMMARY:2nd International Conference and Expo on  Diamond\, Graphite 
  & Carbon Materials
END:VEVENT
END:VCALENDAR
