BEGIN:VCALENDAR
VERSION:2.0
PRODID:-//hacksw/handcal//NONSGML v1.0//EN
CALSCALE:GREGORIAN
BEGIN:VEVENT
UID:69e5cf16a76d7
DTSTART:20180415T193000Z
DTSTAMP:20260420T070038Z
DTEND:20180416T193000Z
LOCATION:Las Vegas
DESCRIPTION:Nano Tenchnology Event
URL;VALUE=URI:https://smartmaterials-structures.conferenceseries.com
SUMMARY:6th International Conference on  Smart Materials & Structures
END:VEVENT
END:VCALENDAR
