BEGIN:VCALENDAR
VERSION:2.0
PRODID:-//hacksw/handcal//NONSGML v1.0//EN
CALSCALE:GREGORIAN
BEGIN:VEVENT
UID:69e5e993c17a6
DTSTART:20180704T193000Z
DTSTAMP:20260420T085339Z
DTEND:20180705T193000Z
LOCATION:Bangkok
DESCRIPTION:Nano Tenchnology Event
URL;VALUE=URI:https://materials-polymer-chemistry.materialsconference
 es.com
SUMMARY:International Conference on  Materials and Polymer Chemistry
END:VEVENT
END:VCALENDAR
