BEGIN:VCALENDAR
VERSION:2.0
PRODID:-//hacksw/handcal//NONSGML v1.0//EN
CALSCALE:GREGORIAN
BEGIN:VEVENT
UID:69e5cf78699f6
DTSTART:20180513T193000Z
DTSTAMP:20260420T070216Z
DTEND:20180514T193000Z
LOCATION:Rome
DESCRIPTION:Nano Tenchnology Event
URL;VALUE=URI:https://ceramics.conferenceseries.com
SUMMARY:4th International Conference and Expo on  Ceramics and Compos
 site Materials
END:VEVENT
END:VCALENDAR
