BEGIN:VCALENDAR
VERSION:2.0
PRODID:-//hacksw/handcal//NONSGML v1.0//EN
CALSCALE:GREGORIAN
BEGIN:VEVENT
UID:69e5cf659a915
DTSTART:20180527T193000Z
DTSTAMP:20260420T070157Z
DTEND:20180529T193000Z
LOCATION:Osaka
DESCRIPTION:Nano Tenchnology Event
URL;VALUE=URI:https://materialsscience.conferenceseries.com
SUMMARY:18th International Conference and Exhibition on  Materials Sc
 cience and Engineering
END:VEVENT
END:VCALENDAR
