BEGIN:VCALENDAR
VERSION:2.0
PRODID:-//hacksw/handcal//NONSGML v1.0//EN
CALSCALE:GREGORIAN
BEGIN:VEVENT
UID:69e5e9bc6bd54
DTSTART:20180701T193000Z
DTSTAMP:20260420T085420Z
DTEND:20180702T193000Z
LOCATION:Vienna
DESCRIPTION:Nano Tenchnology Event
URL;VALUE=URI:https://smartmaterials.materialsconferences.com
SUMMARY:7th International conference on  Smart Materials and Structur
 res
END:VEVENT
END:VCALENDAR
