BEGIN:VCALENDAR
VERSION:2.0
PRODID:-//hacksw/handcal//NONSGML v1.0//EN
CALSCALE:GREGORIAN
BEGIN:VEVENT
UID:69e5cf5c59e9c
DTSTART:20180603T193000Z
DTSTAMP:20260420T070148Z
DTEND:20180605T193000Z
LOCATION:Prague
DESCRIPTION:Nano Tenchnology Event
URL;VALUE=URI:https://biomaterials.materialsconferences.com
SUMMARY:4th Annual Conference on Biomaterials
END:VEVENT
END:VCALENDAR
