BEGIN:VCALENDAR
VERSION:2.0
PRODID:-//hacksw/handcal//NONSGML v1.0//EN
CALSCALE:GREGORIAN
BEGIN:VEVENT
UID:69e5cf627f562
DTSTART:20180610T193000Z
DTSTAMP:20260420T070154Z
DTEND:20180612T193000Z
LOCATION:Barcelona
DESCRIPTION:Nano Tenchnology Event
URL;VALUE=URI:https://materialsscience.conferenceseries.com
SUMMARY:19th World Congress on Materials Science and Engineering
END:VEVENT
END:VCALENDAR
