BEGIN:VCALENDAR
VERSION:2.0
PRODID:-//hacksw/handcal//NONSGML v1.0//EN
CALSCALE:GREGORIAN
BEGIN:VEVENT
UID:69e5e94bc57e0
DTSTART:20180619T193000Z
DTSTAMP:20260420T085227Z
DTEND:20180620T193000Z
LOCATION:Oslo
DESCRIPTION:Nano Tenchnology Event
URL;VALUE=URI:https://advancedmaterials.materialsconferences.com/
SUMMARY:23rd International Conference on  Advanced Materials
END:VEVENT
END:VCALENDAR
